BEGIN:VCALENDAR

VERSION:2.0

PRODID:-//hacksw/handcal//NONSGML v1.0//EN

BEGIN:VEVENT

UID:ed83af450002170d7c14dc32255880d9

DTSTAMP:20260421T121914Z

DTSTART:20260425T110000

DTEND:20260425T113000

SUMMARY:L40427836 - 24/180 Stirling St, PERTH WA 6000

LOCATION:24/180 Stirling St, PERTH WA 6000

END:VEVENT

END:VCALENDAR