BEGIN:VCALENDAR

VERSION:2.0

PRODID:-//hacksw/handcal//NONSGML v1.0//EN

BEGIN:VEVENT

UID:5c473cee8acfb3975b713dc9682849ba

DTSTAMP:20260424T170011Z

DTSTART:20260425T141500

DTEND:20260425T144500

SUMMARY:L39018894 - 803/11 Barrack Square, PERTH WA 6000

LOCATION:803/11 Barrack Square, PERTH WA 6000

END:VEVENT

END:VCALENDAR